BEGIN:VCALENDAR
VERSION:2.0
PRODID:-//alento.com.pt - ECPv6.15.16//NONSGML v1.0//EN
CALSCALE:GREGORIAN
METHOD:PUBLISH
X-ORIGINAL-URL:https://alento.com.pt
X-WR-CALDESC:Events for alento.com.pt
REFRESH-INTERVAL;VALUE=DURATION:PT1H
X-Robots-Tag:noindex
X-PUBLISHED-TTL:PT1H
BEGIN:VTIMEZONE
TZID:Europe/Lisbon
BEGIN:DAYLIGHT
TZOFFSETFROM:+0000
TZOFFSETTO:+0100
TZNAME:WEST
DTSTART:20240331T010000
END:DAYLIGHT
BEGIN:STANDARD
TZOFFSETFROM:+0100
TZOFFSETTO:+0000
TZNAME:WET
DTSTART:20241027T010000
END:STANDARD
BEGIN:DAYLIGHT
TZOFFSETFROM:+0000
TZOFFSETTO:+0100
TZNAME:WEST
DTSTART:20250330T010000
END:DAYLIGHT
BEGIN:STANDARD
TZOFFSETFROM:+0100
TZOFFSETTO:+0000
TZNAME:WET
DTSTART:20251026T010000
END:STANDARD
BEGIN:DAYLIGHT
TZOFFSETFROM:+0000
TZOFFSETTO:+0100
TZNAME:WEST
DTSTART:20260329T010000
END:DAYLIGHT
BEGIN:STANDARD
TZOFFSETFROM:+0100
TZOFFSETTO:+0000
TZNAME:WET
DTSTART:20261025T010000
END:STANDARD
END:VTIMEZONE
BEGIN:VEVENT
DTSTART;VALUE=DATE:20251011
DTEND;VALUE=DATE:20251013
DTSTAMP:20260423T102412
CREATED:20250906T201334Z
LAST-MODIFIED:20250906T201334Z
UID:4350-1760140800-1760313599@alento.com.pt
SUMMARY:Suporte Avançado de Vida
DESCRIPTION:
URL:https://alento.com.pt/evento/suporte-avancado-de-vida-6/
LOCATION:Centro de Medicina de Reabilitação\, Alcoitão\, Rua Conde Barão\, Alcabideche\, Alcabideche\, 2649-506\, Portugal
CATEGORIES:Suporte Avançado de Vida
ATTACH;FMTTYPE=image/jpeg:https://alento.com.pt/wp-content/uploads/2024/10/20241018_195144-scaled.jpg
ORGANIZER;CN="Alento":MAILTO:secretariado@alento.com.pt
END:VEVENT
END:VCALENDAR