BEGIN:VCALENDAR
VERSION:2.0
PRODID:-//alento.com.pt - ECPv6.15.16//NONSGML v1.0//EN
CALSCALE:GREGORIAN
METHOD:PUBLISH
X-WR-CALNAME:alento.com.pt
X-ORIGINAL-URL:https://alento.com.pt
X-WR-CALDESC:Events for alento.com.pt
REFRESH-INTERVAL;VALUE=DURATION:PT1H
X-Robots-Tag:noindex
X-PUBLISHED-TTL:PT1H
BEGIN:VTIMEZONE
TZID:Europe/Lisbon
BEGIN:DAYLIGHT
TZOFFSETFROM:+0000
TZOFFSETTO:+0100
TZNAME:WEST
DTSTART:20240331T010000
END:DAYLIGHT
BEGIN:STANDARD
TZOFFSETFROM:+0100
TZOFFSETTO:+0000
TZNAME:WET
DTSTART:20241027T010000
END:STANDARD
BEGIN:DAYLIGHT
TZOFFSETFROM:+0000
TZOFFSETTO:+0100
TZNAME:WEST
DTSTART:20250330T010000
END:DAYLIGHT
BEGIN:STANDARD
TZOFFSETFROM:+0100
TZOFFSETTO:+0000
TZNAME:WET
DTSTART:20251026T010000
END:STANDARD
BEGIN:DAYLIGHT
TZOFFSETFROM:+0000
TZOFFSETTO:+0100
TZNAME:WEST
DTSTART:20260329T010000
END:DAYLIGHT
BEGIN:STANDARD
TZOFFSETFROM:+0100
TZOFFSETTO:+0000
TZNAME:WET
DTSTART:20261025T010000
END:STANDARD
END:VTIMEZONE
BEGIN:VEVENT
DTSTART;VALUE=DATE:20250531
DTEND;VALUE=DATE:20250601
DTSTAMP:20260423T102256
CREATED:20250218T161636Z
LAST-MODIFIED:20250218T161636Z
UID:4089-1748649600-1748735999@alento.com.pt
SUMMARY:Suporte Imediato de Vida Pediátrico
DESCRIPTION:
URL:https://alento.com.pt/evento/suporte-imediato-de-vida-pediatrico/
LOCATION:ULSBA\, Rua Dr. António Fernando Covas Lima\, Beja\, 7801-849\, Portugal
CATEGORIES:Suporte Imediato de Vida Pediátrico
ATTACH;FMTTYPE=image/jpeg:https://alento.com.pt/wp-content/uploads/2024/02/ArticleImageChestCompression.jpg
ORGANIZER;CN="Alento":MAILTO:secretariado@alento.com.pt
END:VEVENT
END:VCALENDAR